BEGIN:VCALENDAR
VERSION:2.0
PRODID:-//Maryland VOAD - ECPv6.15.20//NONSGML v1.0//EN
CALSCALE:GREGORIAN
METHOD:PUBLISH
X-WR-CALNAME:Maryland VOAD
X-ORIGINAL-URL:https://www.marylandvoad.org
X-WR-CALDESC:Events for Maryland VOAD
REFRESH-INTERVAL;VALUE=DURATION:PT1H
X-Robots-Tag:noindex
X-PUBLISHED-TTL:PT1H
BEGIN:VTIMEZONE
TZID:UTC
BEGIN:STANDARD
TZOFFSETFROM:+0000
TZOFFSETTO:+0000
TZNAME:UTC
DTSTART:20220101T000000
END:STANDARD
END:VTIMEZONE
BEGIN:VEVENT
DTSTART;TZID=UTC:20251208T100000
DTEND;TZID=UTC:20251208T140000
DTSTAMP:20260419T122037
CREATED:20240220T231945Z
LAST-MODIFIED:20240220T231945Z
UID:10000079-1765188000-1765202400@www.marylandvoad.org
SUMMARY:Maryland VOAD Quarterly Meeting
DESCRIPTION:
URL:https://www.marylandvoad.org/event/maryland-voad-quarterly-meetings/2025-12-08/
END:VEVENT
BEGIN:VEVENT
DTSTART;VALUE=DATE:20251006
DTEND;VALUE=DATE:20251213
DTSTAMP:20260419T122037
CREATED:20251107T201818Z
LAST-MODIFIED:20251107T201818Z
UID:10000113-1759708800-1765583999@www.marylandvoad.org
SUMMARY:Maryland Charity Campaign
DESCRIPTION:The Maryland Charity Campaign has again accepted Maryland VOAD into its State employee payroll deduction program. \nState employees can designate a donation amount from their paychecks to help Maryland VOAD support disaster response and recovery. Donations started in FY2025\, and we are excited to be part of the campaign for 2026. The Campaign runs October 6 – December 12\, 2025. \nPlease encourage your State employee friends\, relatives\, and colleagues to select Maryland VOAD. Use MCC Code: 32-0333663. \nLearn more about us here.
URL:https://www.marylandvoad.org/event/maryland-charity-campaign/
ATTACH;FMTTYPE=image/png:https://www.marylandvoad.org/wp-content/uploads/2025/09/MD_charity_campaign.png
END:VEVENT
BEGIN:VEVENT
DTSTART;TZID=UTC:20250908T100000
DTEND;TZID=UTC:20250908T140000
DTSTAMP:20260419T122037
CREATED:20240220T231945Z
LAST-MODIFIED:20240220T231945Z
UID:10000078-1757325600-1757340000@www.marylandvoad.org
SUMMARY:Maryland VOAD Quarterly Meeting
DESCRIPTION:
URL:https://www.marylandvoad.org/event/maryland-voad-quarterly-meetings/2025-09-08/
END:VEVENT
BEGIN:VEVENT
DTSTART;TZID=UTC:20250609T100000
DTEND;TZID=UTC:20250609T140000
DTSTAMP:20260419T122037
CREATED:20240220T231945Z
LAST-MODIFIED:20240220T231945Z
UID:10000077-1749463200-1749477600@www.marylandvoad.org
SUMMARY:Maryland VOAD Quarterly Meeting
DESCRIPTION:
URL:https://www.marylandvoad.org/event/maryland-voad-quarterly-meetings/2025-06-09/
END:VEVENT
BEGIN:VEVENT
DTSTART;TZID=UTC:20250609T100000
DTEND;TZID=UTC:20250609T123000
DTSTAMP:20260419T122037
CREATED:20250514T000817Z
LAST-MODIFIED:20250514T000817Z
UID:10000110-1749463200-1749472200@www.marylandvoad.org
SUMMARY:Maryland VOAD Annual Meeting
DESCRIPTION:Annual Meeting as prescribed by the constitution\, will be: \nMonday\, June 9\, 2025  |  10:00 a.m.—12:30 p.m. \nRSVP by June 2\, 2025 \nHighlights of the meeting: \n\nElection of 2025/26 Board of Directors\nUpdate to Maryland VOAD Bylaws\nAn update on our work on the Eastern Shore
URL:https://www.marylandvoad.org/event/maryland-voad-annual-meeting-2/
END:VEVENT
BEGIN:VEVENT
DTSTART;VALUE=DATE:20250519
DTEND;VALUE=DATE:20250523
DTSTAMP:20260419T122037
CREATED:20240522T193726Z
LAST-MODIFIED:20240522T193726Z
UID:10000095-1747612800-1747958399@www.marylandvoad.org
SUMMARY:2025 National VOAD Conference
DESCRIPTION:SAVE THE DATE – 2025 National VOAD Conference \nMay 19-22\, 2025 – The Galt House Louisville\, KY \nPlease click here for more information.
URL:https://www.marylandvoad.org/event/2025-national-voad-conference/
LOCATION:Louisville\, KY
ATTACH;FMTTYPE=image/jpeg:https://www.marylandvoad.org/wp-content/uploads/2024/05/the-galt-house-a-trademark.jpg
END:VEVENT
BEGIN:VEVENT
DTSTART;TZID=UTC:20250422T080000
DTEND;TZID=UTC:20250422T160000
DTSTAMP:20260419T122037
CREATED:20250306T163010Z
LAST-MODIFIED:20250306T223904Z
UID:10000105-1745308800-1745337600@www.marylandvoad.org
SUMMARY:Whole Community Integration 5th Annual Summit
DESCRIPTION:Whole Community Integration 5th Annual Summit \nCan We Talk? The Importance of Cross-Sector Communication in Emergency Management \nTuesday\, April 22\, 2025 \nSheraton Baltimore North Hotel \n903 Dulaney Valley Rd\, Townson\, MD 21204 \nRegister HERE!
URL:https://www.marylandvoad.org/event/whole-community-integration-5th-annual-summit/
END:VEVENT
BEGIN:VEVENT
DTSTART;VALUE=DATE:20250330
DTEND;VALUE=DATE:20250402
DTSTAMP:20260419T122037
CREATED:20250126T182451Z
LAST-MODIFIED:20250126T200527Z
UID:10000099-1743292800-1743551999@www.marylandvoad.org
SUMMARY:2025 Annual Mid-Atlantic VOAD Regional Conference
DESCRIPTION:March 30 – April 1\, 2025 | Cacapon State Park\, Berkeley Springs\, West Virginia \nThe Mid-Atlantic Voluntary Organizations Active in Disaster (DC VOAD\, DE VOAD\, MD VOAD\, PA VOAD\, and WV VOAD) are pleased to present: Beyond Band-Aids: Dismantling Systemic Inequities that Fuel Disaster Vulnerability at this year’s regional conference\, with keynote speaker\, Dr. Cassandra R. Davis. \nAs disaster response agencies\, we often respond to the most vulnerable\, marginalized\, and under-resourced communities affected by disasters. Systemic inequalities already exist for these populations well before a disaster strikes\, and they are exacerbated by the disaster. We find ourselves simultaneously “within” and “outside” of these systems. The conference will explore how we strategize\, work intentionally\, and become aware of our biases in responding from within these positions to bring equitable recovery for everyone. \nRegistration: To register and learn more about the Mid-Atlantic VOAD Regional Conference\, please click here.
URL:https://www.marylandvoad.org/event/2025-regional-conference/
LOCATION:Cacapon Resort\, WV\, United States
END:VEVENT
BEGIN:VEVENT
DTSTART;TZID=UTC:20250310T100000
DTEND;TZID=UTC:20250310T140000
DTSTAMP:20260419T122037
CREATED:20250306T214157Z
LAST-MODIFIED:20250306T214158Z
UID:10000076-1741600800-1741615200@www.marylandvoad.org
SUMMARY:Maryland VOAD Quarterly Meeting
DESCRIPTION:
URL:https://www.marylandvoad.org/event/maryland-voad-quarterly-meetings-4/
END:VEVENT
BEGIN:VEVENT
DTSTART;TZID=UTC:20250304T080000
DTEND;TZID=UTC:20250306T163000
DTSTAMP:20260419T122037
CREATED:20250108T222807Z
LAST-MODIFIED:20250108T222807Z
UID:10000104-1741075200-1741278600@www.marylandvoad.org
SUMMARY:TRAINING: Family Assistance Operations Course
DESCRIPTION:The National Transportation Safety Board’s (NTSB) Transportation Disaster Assistance Division (TDA) is excited to announce that we will be offering three sessions of the Family Assistance Operations course in 2025. The application for the first offering is now open. \nThis tuition-free course is scheduled for: \nMarch 4 – 6\, 2025\, 8:00 a.m. – 4:30 p.m. EST \nAmerican Red Cross – Northern Virginia Chapter \n8550 Arlington Boulevard\, Fairfax\, Virginia 22031 \nThis is an in-person course with no virtual offering. Please note that those selected to attend are responsible for their own travel\, lodging\, meals\, and incidental expenses. Additionally\, daily transportation to and from the facility is the responsibility of individual attendees. Free outdoor parking is available at the facility. \nThrough a combination of lectures\, group discussions\, and hands-on activities\, participants will gain a better understanding of the TDA family assistance concept of operations. Throughout the course\, participants will engage in a tabletop exercise that reinforces the concepts presented. The course culminates in a mock family briefing delivered by TDA staff. \nThe class size is limited to 45 participants. \nTo express interest in participating in the course\, please complete the application form at the link below no later than 5:00 p.m. Eastern Standard Time\, Wednesday\, January 8\, 2025. Completing the application form does not guarantee you will be selected for the course. \nhttps://forms.office.com/r/GkmHhcg0jN
URL:https://www.marylandvoad.org/event/training-family-assistance-operations-course/
END:VEVENT
BEGIN:VEVENT
DTSTART;TZID=UTC:20241209T100000
DTEND;TZID=UTC:20241209T140000
DTSTAMP:20260419T122037
CREATED:20240220T231945Z
LAST-MODIFIED:20240220T231945Z
UID:10000075-1733738400-1733752800@www.marylandvoad.org
SUMMARY:Maryland VOAD Quarterly Meeting
DESCRIPTION:
URL:https://www.marylandvoad.org/event/maryland-voad-quarterly-meetings/2024-12-09/
END:VEVENT
BEGIN:VEVENT
DTSTART;VALUE=DATE:20240927
DTEND;VALUE=DATE:20240929
DTSTAMP:20260419T122037
CREATED:20240909T222920Z
LAST-MODIFIED:20240909T222920Z
UID:10000103-1727395200-1727567999@www.marylandvoad.org
SUMMARY:Volunteer Training & Certification Program
DESCRIPTION:September 27 – 28\, 2024 \nFrederick Church of the Brethren \n201 Fairview Ave. \nFrederick\, MD 21701 \nRegister now \n  \nChildren’s Disaster Services’ 25-hour training utilizes a variety of hands-on activities that the participants put into action when caring for children after a disaster. Topics include: \n\nshelter simulation (includes an overnight stay)\ndisasters (types and phases)\nchildren\n\nneeds after a disaster\nhow to respond to children in a healing manner\nthe role of play after a disaster\nhow to use play to start recovery in children\n\n\nChildren’s Disaster Services Centers\n\nset up\noperation\nsafety procedures\nvolunteers’ roles\n\n\nSelf-care onsite and after returning home\n\nReview the flier and training website for additional information. \n  \nContact Carolyn Neher\, Assistant Director with questions.
URL:https://www.marylandvoad.org/event/volunteer-training-certification-program/
ATTACH;FMTTYPE=image/png:https://www.marylandvoad.org/wp-content/uploads/2023/04/Children_s-Disaster-Services-_-Church-of-the-Brethren.png
END:VEVENT
BEGIN:VEVENT
DTSTART;TZID=UTC:20240918T090000
DTEND;TZID=UTC:20240918T170000
DTSTAMP:20260419T122037
CREATED:20240818T224520Z
LAST-MODIFIED:20240818T224520Z
UID:10000100-1726650000-1726678800@www.marylandvoad.org
SUMMARY:Mobilizing Faith-Based Community Organizations in Preparing for Disasters (Training: MGT-405)
DESCRIPTION:Maryland Department of Emergency Management’s (MDEM’s) Whole Community Integration Branch and Maryland VOAD are co-sponsoring this community resilience building course hosted by the Rural Domestic Preparedness Consortium– \nDate: Sept. 18\, 2024\nTime: 9 a.m. – 5 p.m.\nLocation: BMC\, 1500 Whetstone Way\, Suite 300\, Baltimore\, MD 21231\nInstructor: Gregg Varner \nPlease register by: September 4! \nCourse Description: MGT-405 is an 8-hour\, DHS/FEMA-certified\, tuition-free\, management-level course. This course covers emergency planning and brings together emergency managers and first responders with Faith-Based Community Organization (FBCO) leaders in a shared learning environment. This course facilitates effective communication to develop comprehensive local emergency plans. \nAudience: \nAll First Responders\nGovernmental Administrative/ Elected Officials\nCommunity Emergency Management Personnel\nChurches and Faith-Based Organizations\nCommunity Stakeholders \nClass Topics: \nThe roles FBOCs have played during and after major disasters\nUnderstanding the responsibilities and authority of each level of governmental and non-governmental organizations. \nThe role leadership plays in FBCO preparedness\, applying social networking techniques to prepare members for disaster and completing an emergency plan checklist that can be utilized by FBOC’s during the planning process.\nThe process for developing a local emergency plan\, list the elements of a comprehensive county emergency plan and evaluate a plan for FBCO engagement. \nSee flier for more information.
URL:https://www.marylandvoad.org/event/mobilizing-faith-based-community-organizations-in-preparing-for-disasters/
END:VEVENT
BEGIN:VEVENT
DTSTART;TZID=UTC:20240909T100000
DTEND;TZID=UTC:20240909T140000
DTSTAMP:20260419T122037
CREATED:20240220T231945Z
LAST-MODIFIED:20240220T231945Z
UID:10000074-1725876000-1725890400@www.marylandvoad.org
SUMMARY:Maryland VOAD Quarterly Meeting
DESCRIPTION:
URL:https://www.marylandvoad.org/event/maryland-voad-quarterly-meetings/2024-09-09/
END:VEVENT
BEGIN:VEVENT
DTSTART;VALUE=DATE:20240904
DTEND;VALUE=DATE:20240907
DTSTAMP:20260419T122037
CREATED:20240909T222358Z
LAST-MODIFIED:20240909T222447Z
UID:10000102-1725408000-1725667199@www.marylandvoad.org
SUMMARY:Long-Term Recovery Leadership Training
DESCRIPTION:The Eastern Cluster of Lutheran Disaster Response is sponsoring: \nLong Term Recovery Leadership Training \nKamp Kairos in Crisfield \nSeptember 4 – 6\, 2024 \n  \nThe purpose of the event is to increase their expertise and capacity to provide support to communities and State VOADs when a LTR group or committee needs to be formed. \nTeaching and learning for the training is centering around our long-term recovery efforts following Superstorm Sandy and the present LTR effort following the October 2021 Tidal Flooding event. The training event is bringing back together many of the ESLTRC Staff that lead the Sandy response along with community leaders\, clients that had new homes built\, members of the ESLTRC and county and city officials. \nAnyone interested in taking part in the training camp can contact Julia Frank. \nYou can register here.
URL:https://www.marylandvoad.org/event/99079/
END:VEVENT
BEGIN:VEVENT
DTSTART;TZID=UTC:20240821T110000
DTEND;TZID=UTC:20240821T120000
DTSTAMP:20260419T122037
CREATED:20240818T224835Z
LAST-MODIFIED:20240818T224835Z
UID:10000101-1724238000-1724241600@www.marylandvoad.org
SUMMARY:Hurricane Preparedness for Private Sector
DESCRIPTION:Aug. 21\, 2024\, 11 a.m. to 12 p.m. EST \nJoin Maryland Department of Emergency Management’s (MDEM’s) Whole Community Integration (WCI) Branch for a comprehensive webinar on how to prepare your business or organization for tropical cyclones\, including: tropical depressions\, tropical storms\, and hurricanes. \nThis online event will cover useful tips and strategies to keep you\, your employees\, and your assets safe. Learn from experts in the field and gain valuable insights into staying secure during cyclone season. Don’t miss out on this opportunity to enhance your preparedness! Register now to secure your spot. \nSpeakers from the following Organizations: \nNational Oceanic and Atmospheric Administration – NOAA\nMaryland Insurance Administration – MIA\nFederal Emergency Management Agency – FEMA \nRegister Here Today!
URL:https://www.marylandvoad.org/event/hurricane-preparedness-for-private-sector/
END:VEVENT
BEGIN:VEVENT
DTSTART;TZID=UTC:20240610T100000
DTEND;TZID=UTC:20240610T140000
DTSTAMP:20260419T122037
CREATED:20240220T231945Z
LAST-MODIFIED:20240220T231945Z
UID:10000073-1718013600-1718028000@www.marylandvoad.org
SUMMARY:Maryland VOAD Quarterly Meeting
DESCRIPTION:
URL:https://www.marylandvoad.org/event/maryland-voad-quarterly-meetings/2024-06-10/
END:VEVENT
BEGIN:VEVENT
DTSTART;TZID=UTC:20240610T100000
DTEND;TZID=UTC:20240610T123000
DTSTAMP:20260419T122037
CREATED:20240605T183436Z
LAST-MODIFIED:20240605T184822Z
UID:10000098-1718013600-1718022600@www.marylandvoad.org
SUMMARY:Maryland VOAD 2024 Annual Meeting
DESCRIPTION:The Annual Meeting as prescribed by the constitution\, will be: \nMonday\, June 10\, 2024\, \n10:00 a.m.—12:30 p.m. \nvia Zoom \n  \nMeeting Documents \n  \nHighlights of the meeting: \n\nA presentation by Leighton Jones\, Director\, Disaster Relief Response & Strategy – Baby2Baby\nElection of 2024/25 Board of Directors\nAn update on the National VOAD Conference (Phoenix\, AZ – May)\nAn update on our work on the Eastern Shore\n\n  \nJoin the Meeting: \nhttps://zoom.us/j/8672051054?pwd=K1ZsQ05PeDhxajNZaFlJRUdSS3FLZz09#success \n  \nElection of Board of Directors for 2024—2025 \nThe Nominating Committee offers the following slate to serve as the Maryland VOAD\, Board of Directors for the coming fiscal year. As permitted by our constitution\, there will be opportunity for Members of Maryland VOAD to make nominations from the floor during the Annual Meeting. \nThe following people are nominated: \n\nPhillip Huber—Chairperson\nChristina Harris—Vice Chairperson\nJenn Dorsch Messler—Secretary\nBruce Morgenstern—Treasurer\nThea Becton—Communications Coordinator\n\nPlease plan to attend the Annual Meeting for the election of both new Officers and New Members. Maryland VOAD by-laws require a quorum for these important votes to go forward.
URL:https://www.marylandvoad.org/event/maryland-voad-2024-annual-meeting/
END:VEVENT
BEGIN:VEVENT
DTSTART;TZID=UTC:20240608T090000
DTEND;TZID=UTC:20240609T170000
DTSTAMP:20260419T122037
CREATED:20240522T194644Z
LAST-MODIFIED:20240522T194644Z
UID:10000097-1717837200-1717952400@www.marylandvoad.org
SUMMARY:Baltimore City OEM CERT Training
DESCRIPTION:Welcome to the two-day Community Emergency Response Team Training event! Prepare for an exciting journey of hands-on training sessions where you’ll discover how to respond with confidence in emergencies. Join us at the Baltimore City Fire Academy and get set to boost your skills and knowledge to become a hero in your community when it matters most. Don’t let this chance slip away to become an invaluable asset during emergencies. Secure your spot now!
URL:https://www.marylandvoad.org/event/baltimore-city-oem-cert-training/
LOCATION:Baltimore City Fire Academy  6720 Pulaski Highway Baltimore\, MD 21237
ATTACH;FMTTYPE=image/jpeg:https://www.marylandvoad.org/wp-content/uploads/2024/05/CERT-training.jpg
END:VEVENT
BEGIN:VEVENT
DTSTART;TZID=UTC:20240605T080000
DTEND;TZID=UTC:20240605T163000
DTSTAMP:20260419T122037
CREATED:20240301T191635Z
LAST-MODIFIED:20240522T193918Z
UID:10000092-1717574400-1717605000@www.marylandvoad.org
SUMMARY:Whole Community Integration Summit 2024
DESCRIPTION:Maryland Department of Emergency Management Announces the 2024 Whole Community Integration Summit \nRooted and Ready: A Whole Community Approach \nThursday\, June 5\, 2024 | 8 a.m. – 4:30 p.m. \nSheraton Baltimore North Hotel: 903 Dulaney Valley Road (Towson\, MD) \nThis daylong event will be filled with information and engagement as we examine trends\, threats\, and technology in partnerships and preparedness as we look at the year ahead. \nClick here to secure your spot and join us in shaping a resilient Maryland\, where communities thrive. \nView other upcoming events.
URL:https://www.marylandvoad.org/event/whole-community-integration-summit-2024/
END:VEVENT
BEGIN:VEVENT
DTSTART;VALUE=DATE:20240528
DTEND;VALUE=DATE:20240601
DTSTAMP:20260419T122037
CREATED:20240301T195631Z
LAST-MODIFIED:20240522T194107Z
UID:10000093-1716854400-1717199999@www.marylandvoad.org
SUMMARY:MDEMA 2024 Symposium
DESCRIPTION:May 28-31\, 2024 \nAshore Resort & Beach Club \nOcean City\, MD \nRegistration is Open! \nThis year\, we (Maryland Emergency Management Association) are proud to announce the rebranding of the symposium! With this transition\, we’re adopting a more inclusive approach\, foregoing a specific ‘theme’ and embracing the dynamic landscape of Emergency Management and Homeland Security.
URL:https://www.marylandvoad.org/event/mdema-2024-symposium/
END:VEVENT
BEGIN:VEVENT
DTSTART;VALUE=DATE:20240528
DTEND;VALUE=DATE:20240529
DTSTAMP:20260419T122037
CREATED:20240522T194239Z
LAST-MODIFIED:20240522T194239Z
UID:10000096-1716854400-1716940799@www.marylandvoad.org
SUMMARY:Baltimore County ICS AcademyG0402 NIMS for Senior Officials
DESCRIPTION:The goal of this professional development series is to promote effective response by familiarizing personnel with the ICS/EOC framework\, and the principles used to manage incidents. This series of courses also prepares personnel to coordinate with response partners from all levels of government and the private sector. Each quarter\, the Baltimore County Office of Homeland Security & Emergency Management offers five (5) FEMA Incident Command System core courses of instruction. Each course is certified by the State\, and upon completion\, a FEMA Certificate of Completion is awarded.
URL:https://www.marylandvoad.org/event/baltimore-county-ics-academyg0402-nims-for-senior-officials/
END:VEVENT
BEGIN:VEVENT
DTSTART;VALUE=DATE:20240506
DTEND;VALUE=DATE:20240510
DTSTAMP:20260419T122037
CREATED:20230517T001626Z
LAST-MODIFIED:20240108T010532Z
UID:10000051-1714953600-1715299199@www.marylandvoad.org
SUMMARY:2024 National VOAD Conference
DESCRIPTION:SAVE THE DATE – 2024 National VOAD Conference \nMay 6-9\, 2024 – Phoenix\, Arizona at the Hilton Phoenix Resort at the Peak \nPlease click here for more information and to register.
URL:https://www.marylandvoad.org/event/2024-national-voad-conference/
LOCATION:Phoenix\, Arizona
ATTACH;FMTTYPE=image/png:https://www.marylandvoad.org/wp-content/uploads/2023/05/2024-NVC-Logo-1024x1016-1.png
END:VEVENT
BEGIN:VEVENT
DTSTART;TZID=UTC:20240426T180000
DTEND;TZID=UTC:20240505T170000
DTSTAMP:20260419T122037
CREATED:20240412T190948Z
LAST-MODIFIED:20240412T190948Z
UID:10000094-1714154400-1714928400@www.marylandvoad.org
SUMMARY:Annapolis-Anne Arundel Basic CERT Training
DESCRIPTION:Who: Community Members Interested in Being Better Prepared in an Emergency\nWhat: Community Emergency Response Team (CERT) Basic Training\nWhere: Fire Training Academy\, 415 Maxwell Frye Road\, Millersville\, MD 21108\nWhen: Friday\, April 26; Saturday\, April 27; Sunday\, April 28; with Practical Exercises on Sunday\, May 5\, 2024 \n  \nDetails and Registration!
URL:https://www.marylandvoad.org/event/annapolis-anne-arundel-basic-cert-training/
END:VEVENT
BEGIN:VEVENT
DTSTART;TZID=UTC:20240408T120000
DTEND;TZID=UTC:20240409T120000
DTSTAMP:20260419T122037
CREATED:20231204T203838Z
LAST-MODIFIED:20240301T192345Z
UID:10000071-1712577600-1712664000@www.marylandvoad.org
SUMMARY:Mid-Atlantic VOAD Conference
DESCRIPTION:First Regional Mid-Atlantic Annual Conference \nCacapon State Park\, Berkeley Springs\, West Virginia \nNoon Monday to Noon Tuesday\, April 8-9\, 2024 \nThe Mid-Atlantic Voluntary Organizations Active in Disaster (DC VOAD\, DE VOAD\, MD VOAD\, PA VOAD\, VA VOAD and WV VOAD) in partnership with FEMA Region III\, invite you to join us for our inaugural conference. The theme of this year’s conference is: \nImpacts and Implications of a Warming World: Urgency Within the VOAD Movement \nThe conference will explore the climatology and metrological science and data that provide insight into the increased frequency and intensity of storms and will examine how the VOAD member organizations can effectively respond to the increasing number of disasters that fail to qualify for a federal disaster declaration. \nConference Date and Location: The conference will be held from noon on April 8 to noon on April 9\, 2024\, at the Cacapon Resort State Park Lodge in Berkeley Springs\, West Virginia. \nGetting There: You can get to Berkeley Springs from several major metropolitan cities in less than a tank of gas. Approximate distances are Baltimore – 100 miles; Washington\, DC – 100 miles; Pittsburgh – 150 miles; Philadelphia – 165 miles; Richmond – 180 miles. \nConference Fee: $130\, includes conference registration as well as lunch\, break\, and dinner on Monday and breakfast and break on Tuesday. Spouses/significant others are welcome to participate in meals. Purchase a meals-only ticket online during registration. \nRegistration: To register\, please click on the Conference Registration link. \nQuestions: Should you have any questions\, please contact Bruce Morgenstern\, Conference Registration Committee\, at treasurer@marylandvoad.org. \nTo view the full conference brochure and additional information\, go to Regional Conference.
URL:https://www.marylandvoad.org/event/regional-annual-conference/
END:VEVENT
BEGIN:VEVENT
DTSTART;TZID=UTC:20240311T100000
DTEND;TZID=UTC:20240311T140000
DTSTAMP:20260419T122037
CREATED:20240301T181531Z
LAST-MODIFIED:20240301T181532Z
UID:10000072-1710151200-1710165600@www.marylandvoad.org
SUMMARY:Maryland VOAD Quarterly Meeting
DESCRIPTION:Monday\, March 11\, 2024 \n10am – 2pm \nSt. Andrew Church\, 2028 E Lombard St\, Baltimore \nPlease RSVP by noon on Thursday\, March 7\, 2024\, by emailing: chairperson@marylandvoad.org. \n 
URL:https://www.marylandvoad.org/event/maryland-voad-quarterly-meetings-2/
END:VEVENT
BEGIN:VEVENT
DTSTART;TZID=UTC:20231211T100000
DTEND;TZID=UTC:20231211T140000
DTSTAMP:20260419T122037
CREATED:20231204T202347Z
LAST-MODIFIED:20231204T202347Z
UID:10000070-1702288800-1702303200@www.marylandvoad.org
SUMMARY:Maryland VOAD Quarterly Meeting
DESCRIPTION:Quarterly Meeting – Monday\, December 11\, 2023\n\n\n\n\n\n\n\n\n\n\n\n\n\n\n\n\n\n\n\n\n\n\n\n\n\n\n\n\n\n\n\n\n\n\n\n\n\n\n\n\n\n\n10am – 2pm \nChrist Church – Inner Harbor \n701 S Charles Street \nBaltimore 21230 \nReview minutes from last meeting. \nAccess December meeting here.\n\n\n\n\n\n\n\n\n\n\nTo Join the Quarterly Meeting by Zoom \n\nhttps://zoom.us/j/8672051054?pwd=K1ZsQ05PeDhxajNZaFlJRUdSS3FLZz09 \n\nMeeting ID: 867 205 1054 \nPasscode: 727250 \nOne tap mobile \n+13017158592\,\,8672051054#\,\,\,\,*727250# US (Washington DC)
URL:https://www.marylandvoad.org/event/maryland-voad-quarterly-meeting-2/
END:VEVENT
BEGIN:VEVENT
DTSTART;TZID=UTC:20231206T084500
DTEND;TZID=UTC:20231206T143000
DTSTAMP:20260419T122037
CREATED:20231107T223211Z
LAST-MODIFIED:20231107T223258Z
UID:10000069-1701852300-1701873000@www.marylandvoad.org
SUMMARY:M&T Stadium Full Scale Exercise - Volunteers Needed
DESCRIPTION:CISA and M&T Stadium are in need of actors playing the role of event fans during an upcoming Full Scale Exercise. Interested individuals can register and sign the required liability waiver here. \nWhen registering\, be sure to record the timeslot you select for the mandatory 2-hour training. Due to the large volume of participants needed there may be a delay before reminders can be sent. \nAdditional important details can be found below. Please share broadly.
URL:https://www.marylandvoad.org/event/mt-stadium-full-scale-exercise-volunteers-needed/
END:VEVENT
BEGIN:VEVENT
DTSTART;TZID=UTC:20231121T110000
DTEND;TZID=UTC:20231121T120000
DTSTAMP:20260419T122037
CREATED:20231002T195428Z
LAST-MODIFIED:20231002T195428Z
UID:10000066-1700564400-1700568000@www.marylandvoad.org
SUMMARY:Caring in Crisis: Tuesday Briefs
DESCRIPTION:Join the webinar series to hear from key leaders in disaster and crisis response\, mental health\, and other topics. Register here for the free\, live\, one-hour topical webinars. \nLutheran Disaster Response is pleased to share about The Caring in Crisis: Tuesday Briefs webinars are one part of the new “Trauma-Informed Faith Communities” project led by Crisis Care Ministries with support from numerous faith-based and non-profit partners. For more information about the webinar schedule\, topics\, and speakers\, click here.
URL:https://www.marylandvoad.org/event/caring-in-crisis-tuesday-briefs/2023-11-21/
ATTACH;FMTTYPE=image/jpeg:https://www.marylandvoad.org/wp-content/uploads/2023/10/TraumaInformedFaithCommunities.jpg
END:VEVENT
BEGIN:VEVENT
DTSTART;TZID=UTC:20231114T110000
DTEND;TZID=UTC:20231114T120000
DTSTAMP:20260419T122037
CREATED:20231002T195428Z
LAST-MODIFIED:20231002T195428Z
UID:10000065-1699959600-1699963200@www.marylandvoad.org
SUMMARY:Caring in Crisis: Tuesday Briefs
DESCRIPTION:Join the webinar series to hear from key leaders in disaster and crisis response\, mental health\, and other topics. Register here for the free\, live\, one-hour topical webinars. \nLutheran Disaster Response is pleased to share about The Caring in Crisis: Tuesday Briefs webinars are one part of the new “Trauma-Informed Faith Communities” project led by Crisis Care Ministries with support from numerous faith-based and non-profit partners. For more information about the webinar schedule\, topics\, and speakers\, click here.
URL:https://www.marylandvoad.org/event/caring-in-crisis-tuesday-briefs/2023-11-14/
ATTACH;FMTTYPE=image/jpeg:https://www.marylandvoad.org/wp-content/uploads/2023/10/TraumaInformedFaithCommunities.jpg
END:VEVENT
END:VCALENDAR