BEGIN:VCALENDAR
VERSION:2.0
PRODID:-//Maryland VOAD - ECPv6.15.20//NONSGML v1.0//EN
CALSCALE:GREGORIAN
METHOD:PUBLISH
X-ORIGINAL-URL:https://www.marylandvoad.org
X-WR-CALDESC:Events for Maryland VOAD
REFRESH-INTERVAL;VALUE=DURATION:PT1H
X-Robots-Tag:noindex
X-PUBLISHED-TTL:PT1H
BEGIN:VTIMEZONE
TZID:UTC
BEGIN:STANDARD
TZOFFSETFROM:+0000
TZOFFSETTO:+0000
TZNAME:UTC
DTSTART:20270101T000000
END:STANDARD
END:VTIMEZONE
BEGIN:VEVENT
DTSTART;TZID=UTC:20280911T100000
DTEND;TZID=UTC:20280911T140000
DTSTAMP:20260419T122014
CREATED:20240220T231945Z
LAST-MODIFIED:20240220T231945Z
UID:10000090-1852279200-1852293600@www.marylandvoad.org
SUMMARY:Maryland VOAD Quarterly Meeting
DESCRIPTION:
URL:https://www.marylandvoad.org/event/maryland-voad-quarterly-meetings/2028-09-11/
END:VEVENT
BEGIN:VEVENT
DTSTART;TZID=UTC:20281211T100000
DTEND;TZID=UTC:20281211T140000
DTSTAMP:20260419T122014
CREATED:20240220T231945Z
LAST-MODIFIED:20240220T231945Z
UID:10000091-1860141600-1860156000@www.marylandvoad.org
SUMMARY:Maryland VOAD Quarterly Meeting
DESCRIPTION:
URL:https://www.marylandvoad.org/event/maryland-voad-quarterly-meetings/2028-12-11/
END:VEVENT
BEGIN:VEVENT
DTSTART;TZID=UTC:20290312T100000
DTEND;TZID=UTC:20290312T140000
DTSTAMP:20260419T122014
CREATED:20240220T231945Z
LAST-MODIFIED:20240220T231945Z
UID:10000106-1868004000-1868018400@www.marylandvoad.org
SUMMARY:Maryland VOAD Quarterly Meeting
DESCRIPTION:
URL:https://www.marylandvoad.org/event/maryland-voad-quarterly-meetings/2029-03-12/
END:VEVENT
BEGIN:VEVENT
DTSTART;TZID=UTC:20290611T100000
DTEND;TZID=UTC:20290611T140000
DTSTAMP:20260419T122014
CREATED:20240220T231945Z
LAST-MODIFIED:20240220T231945Z
UID:10000107-1875866400-1875880800@www.marylandvoad.org
SUMMARY:Maryland VOAD Quarterly Meeting
DESCRIPTION:
URL:https://www.marylandvoad.org/event/maryland-voad-quarterly-meetings/2029-06-11/
END:VEVENT
BEGIN:VEVENT
DTSTART;TZID=UTC:20290910T100000
DTEND;TZID=UTC:20290910T140000
DTSTAMP:20260419T122014
CREATED:20240220T231945Z
LAST-MODIFIED:20240220T231945Z
UID:10000108-1883728800-1883743200@www.marylandvoad.org
SUMMARY:Maryland VOAD Quarterly Meeting
DESCRIPTION:
URL:https://www.marylandvoad.org/event/maryland-voad-quarterly-meetings/2029-09-10/
END:VEVENT
BEGIN:VEVENT
DTSTART;TZID=UTC:20291210T100000
DTEND;TZID=UTC:20291210T140000
DTSTAMP:20260419T122014
CREATED:20240220T231945Z
LAST-MODIFIED:20240220T231945Z
UID:10000109-1891591200-1891605600@www.marylandvoad.org
SUMMARY:Maryland VOAD Quarterly Meeting
DESCRIPTION:
URL:https://www.marylandvoad.org/event/maryland-voad-quarterly-meetings/2029-12-10/
END:VEVENT
END:VCALENDAR